BEGIN:VCALENDAR
VERSION:2.0
PRODID:-//Plone.org//NONSGML plone.app.event//EN
X-WR-TIMEZONE:Europe/Madrid
BEGIN:VEVENT
SUMMARY:Reunió DUPROCIM
DTSTART;TZID=Europe/Madrid;VALUE=DATE-TIME:20210215T120000
DTEND;TZID=Europe/Madrid;VALUE=DATE-TIME:20210215T130000
DTSTAMP;VALUE=DATE-TIME:20260420T065755Z
UID:5fbdf6bb19e608fd5adab470210e2e44
CREATED;VALUE=DATE-TIME:20210215T000000Z
CATEGORIES:Agenda institucional
URL:https://www.canetdemar.cat/document.php?id=20949
END:VEVENT
END:VCALENDAR