BEGIN:VCALENDAR
VERSION:2.0
PRODID:-//Plone.org//NONSGML plone.app.event//EN
X-WR-TIMEZONE:Europe/Madrid
BEGIN:VEVENT
SUMMARY:Reunió amb l'Arxiu Municipal de Canet de Mar
DTSTART;TZID=Europe/Madrid;VALUE=DATE-TIME:20210216T120000
DTEND;TZID=Europe/Madrid;VALUE=DATE-TIME:20210216T130000
DTSTAMP;VALUE=DATE-TIME:20260424T130510Z
UID:795592c16e1c35390e1df73afb3d29ec
CREATED;VALUE=DATE-TIME:20210216T000000Z
CATEGORIES:Agenda institucional
URL:https://www.canetdemar.cat/document.php?id=20948
END:VEVENT
END:VCALENDAR