BEGIN:VCALENDAR
VERSION:2.0
PRODID:-//Plone.org//NONSGML plone.app.event//EN
X-WR-TIMEZONE:Europe/Madrid
BEGIN:VEVENT
SUMMARY:Acte de presa de possessió de dues treballadores de l'Ajuntament
DTSTART;TZID=Europe/Madrid;VALUE=DATE-TIME:20210217T120000
DTEND;TZID=Europe/Madrid;VALUE=DATE-TIME:20210217T130000
DTSTAMP;VALUE=DATE-TIME:20260421T111100Z
UID:12c12db10d9514674d32ffd815493af7
CREATED;VALUE=DATE-TIME:20210217T000000Z
CATEGORIES:Agenda institucional
LOCATION:Sala annexa Alcaldia
URL:https://www.canetdemar.cat/document.php?id=20946
END:VEVENT
END:VCALENDAR