BEGIN:VCALENDAR
VERSION:2.0
PRODID:-//Plone.org//NONSGML plone.app.event//EN
X-WR-TIMEZONE:Europe/Madrid
BEGIN:VEVENT
SUMMARY:Reconeixement al pilot canetenc Joan Pedrero
DTSTART;TZID=Europe/Madrid;VALUE=DATE-TIME:20210217T100000
DTEND;TZID=Europe/Madrid;VALUE=DATE-TIME:20210217T110000
DTSTAMP;VALUE=DATE-TIME:20260422T222019Z
UID:f1f2d7daf95329377b57bd6607b5288a
CREATED;VALUE=DATE-TIME:20210217T000000Z
CATEGORIES:Agenda institucional
LOCATION:Sala de plens
URL:https://www.canetdemar.cat/document.php?id=20943
END:VEVENT
END:VCALENDAR