BEGIN:VCALENDAR
VERSION:2.0
PRODID:-//Plone.org//NONSGML plone.app.event//EN
X-WR-TIMEZONE:Europe/Madrid
BEGIN:VEVENT
SUMMARY:Reunió coordinació amb l'Àrea de Seguretat Ciutadana
DTSTART;TZID=Europe/Madrid;VALUE=DATE-TIME:20210217T090000
DTEND;TZID=Europe/Madrid;VALUE=DATE-TIME:20210217T100000
DTSTAMP;VALUE=DATE-TIME:20260424T152658Z
UID:8d540cb1a95128b3b16f3dcfdc4927c1
CREATED;VALUE=DATE-TIME:20210217T000000Z
CATEGORIES:Agenda institucional
LOCATION:Comissaria de Policia
URL:https://www.canetdemar.cat/document.php?id=20942
END:VEVENT
END:VCALENDAR