BEGIN:VCALENDAR
VERSION:2.0
PRODID:-//Plone.org//NONSGML plone.app.event//EN
X-WR-TIMEZONE:Europe/Madrid
BEGIN:VEVENT
SUMMARY:Reunió amb un veí de Canet de Mar
DTSTART;TZID=Europe/Madrid;VALUE=DATE-TIME:20210219T140000
DTEND;TZID=Europe/Madrid;VALUE=DATE-TIME:20210219T150000
DTSTAMP;VALUE=DATE-TIME:20260422T163740Z
UID:6313ebc999fbe02453eeb7a2e66ce5da
CREATED;VALUE=DATE-TIME:20210219T000000Z
CATEGORIES:Agenda institucional
URL:https://www.canetdemar.cat/document.php?id=20941
END:VEVENT
END:VCALENDAR