BEGIN:VCALENDAR
VERSION:2.0
PRODID:-//Plone.org//NONSGML plone.app.event//EN
X-WR-TIMEZONE:Europe/Madrid
BEGIN:VEVENT
SUMMARY:Reunió de guals i pintor
DTSTART;TZID=Europe/Madrid;VALUE=DATE-TIME:20210218T110000
DTEND;TZID=Europe/Madrid;VALUE=DATE-TIME:20210218T120000
DTSTAMP;VALUE=DATE-TIME:20260424T070437Z
UID:feb9de4cdb74b887395c688babccbe47
CREATED;VALUE=DATE-TIME:20210218T000000Z
CATEGORIES:Agenda institucional
URL:https://www.canetdemar.cat/document.php?id=20937
END:VEVENT
END:VCALENDAR