BEGIN:VCALENDAR
VERSION:2.0
PRODID:-//Plone.org//NONSGML plone.app.event//EN
X-WR-TIMEZONE:Europe/Madrid
BEGIN:VEVENT
SUMMARY:Donació de sang
DTSTART;TZID=Europe/Madrid;VALUE=DATE-TIME:20210227T100000
DTEND;TZID=Europe/Madrid;VALUE=DATE-TIME:20210227T110000
DTSTAMP;VALUE=DATE-TIME:20260423T034905Z
UID:26543c42900ec5a44609b3cf84bd2cde
CREATED;VALUE=DATE-TIME:20210227T000000Z
LOCATION:Envelat de Vil·la Flora
ORGANIZER:Banc de sang
COMMENT:Durada: de 10.00 a 14.00 hores i de 16.00 a 20.00 hores
DESCRIPTION:Dona el millor de tu. Dona sang
URL:https://www.canetdemar.cat/document.php?id=20930
END:VEVENT
END:VCALENDAR