BEGIN:VCALENDAR
VERSION:2.0
PRODID:-//Plone.org//NONSGML plone.app.event//EN
X-WR-TIMEZONE:Europe/Madrid
BEGIN:VEVENT
SUMMARY:Ruta guiada: El Modernisme a Canet de Mar
DTSTART;TZID=Europe/Madrid;VALUE=DATE-TIME:20210221T110000
DTEND;TZID=Europe/Madrid;VALUE=DATE-TIME:20210221T120000
DTSTAMP;VALUE=DATE-TIME:20260421T141642Z
UID:126f515b95a7176de53e1528e3a7f357
CREATED;VALUE=DATE-TIME:20210221T000000Z
LOCATION:Casa museu Lluís Domènech i Montaner
ORGANIZER:Àrea de Cultura
COMMENT:Preu: 7 euros (Gratuït menors de 12 anys)
Durada: 1,30 hores aproximadament
URL:https://www.canetdemar.cat/document.php?id=20917
END:VEVENT
END:VCALENDAR