BEGIN:VCALENDAR
VERSION:2.0
PRODID:-//Plone.org//NONSGML plone.app.event//EN
X-WR-TIMEZONE:Europe/Madrid
BEGIN:VEVENT
SUMMARY:Portes obertes virtuals - Turó del drac
DTSTART;TZID=Europe/Madrid;VALUE=DATE-TIME:20210312T170000
DTEND;TZID=Europe/Madrid;VALUE=DATE-TIME:20210312T180000
DTSTAMP;VALUE=DATE-TIME:20260423T185812Z
UID:634f95c4f5d4944e0b82a2d67716be14
CREATED;VALUE=DATE-TIME:20210312T000000Z
LOCATION:Escola Turó del drac
ORGANIZER:Escola Turó del drac
URL:https://www.canetdemar.cat/document.php?id=20903
END:VEVENT
END:VCALENDAR