BEGIN:VCALENDAR
VERSION:2.0
PRODID:-//Plone.org//NONSGML plone.app.event//EN
X-WR-TIMEZONE:Europe/Madrid
BEGIN:VEVENT
SUMMARY:Reunió de seguretat de les eleccions del 14F
DTSTART;TZID=Europe/Madrid;VALUE=DATE-TIME:20210205T100000
DTEND;TZID=Europe/Madrid;VALUE=DATE-TIME:20210205T110000
DTSTAMP;VALUE=DATE-TIME:20260422T053414Z
UID:d41436c7e1335626fbafc7aa8c674456
CREATED;VALUE=DATE-TIME:20210205T000000Z
CATEGORIES:Agenda institucional
URL:https://www.canetdemar.cat/document.php?id=20892
END:VEVENT
END:VCALENDAR