BEGIN:VCALENDAR
VERSION:2.0
PRODID:-//Plone.org//NONSGML plone.app.event//EN
X-WR-TIMEZONE:Europe/Madrid
BEGIN:VEVENT
SUMMARY:Sessió Informativa sobre el Catàleg de Serveis
DTSTART;TZID=Europe/Madrid;VALUE=DATE-TIME:20210202T100000
DTEND;TZID=Europe/Madrid;VALUE=DATE-TIME:20210202T110000
DTSTAMP;VALUE=DATE-TIME:20260423T071729Z
UID:9fa0dc55683205c831c1ee128a41bb66
CREATED;VALUE=DATE-TIME:20210202T000000Z
CATEGORIES:Agenda institucional
URL:https://www.canetdemar.cat/document.php?id=20886
END:VEVENT
END:VCALENDAR