BEGIN:VCALENDAR
VERSION:2.0
PRODID:-//Plone.org//NONSGML plone.app.event//EN
X-WR-TIMEZONE:Europe/Madrid
BEGIN:VEVENT
SUMMARY:Ràdio Canet: 23è aniversari
DTSTART;TZID=Europe/Madrid;VALUE=DATE-TIME:20030222T193000
DTEND;TZID=Europe/Madrid;VALUE=DATE-TIME:20030222T203000
DTSTAMP;VALUE=DATE-TIME:20260423T231615Z
UID:21944e71eeeeff7300dbca7c64210b30
CREATED;VALUE=DATE-TIME:20030222T000000Z
DESCRIPTION:Tot el mes de febrer, programació especial
URL:https://www.canetdemar.cat/document.php?id=208
END:VEVENT
END:VCALENDAR