BEGIN:VCALENDAR
VERSION:2.0
PRODID:-//Plone.org//NONSGML plone.app.event//EN
X-WR-TIMEZONE:Europe/Madrid
BEGIN:VEVENT
SUMMARY:Comiat Joan Pedrero
DTSTART;TZID=Europe/Madrid;VALUE=DATE-TIME:20201224T100000
DTEND;TZID=Europe/Madrid;VALUE=DATE-TIME:20201224T110000
DTSTAMP;VALUE=DATE-TIME:20260425T191750Z
UID:07817c017d8bafb18d0f30221c0590f7
CREATED;VALUE=DATE-TIME:20201224T000000Z
CATEGORIES:Agenda institucional
URL:https://www.canetdemar.cat/document.php?id=20781
END:VEVENT
END:VCALENDAR