BEGIN:VCALENDAR
VERSION:2.0
PRODID:-//Plone.org//NONSGML plone.app.event//EN
X-WR-TIMEZONE:Europe/Madrid
BEGIN:VEVENT
SUMMARY:Reunió de seguiment amb l'àrea de Seguretat Ciutadana
DTSTART;TZID=Europe/Madrid;VALUE=DATE-TIME:20201223T133000
DTEND;TZID=Europe/Madrid;VALUE=DATE-TIME:20201223T143000
DTSTAMP;VALUE=DATE-TIME:20260425T153330Z
UID:d767f34f460fa12d823905b3d6636dd4
CREATED;VALUE=DATE-TIME:20201223T000000Z
CATEGORIES:Agenda institucional
LOCATION:Comissaria de Policia
URL:https://www.canetdemar.cat/document.php?id=20762
END:VEVENT
END:VCALENDAR