BEGIN:VCALENDAR
VERSION:2.0
PRODID:-//Plone.org//NONSGML plone.app.event//EN
X-WR-TIMEZONE:Europe/Madrid
BEGIN:VEVENT
SUMMARY:Reunió tècnica sobre l'Àrea de Seguretat Ciutadana
DTSTART;TZID=Europe/Madrid;VALUE=DATE-TIME:20201217T110000
DTEND;TZID=Europe/Madrid;VALUE=DATE-TIME:20201217T120000
DTSTAMP;VALUE=DATE-TIME:20260425T223329Z
UID:57eef4d54fdc91645d8fb92530599747
CREATED;VALUE=DATE-TIME:20201217T000000Z
CATEGORIES:Agenda institucional
URL:https://www.canetdemar.cat/document.php?id=20742
END:VEVENT
END:VCALENDAR