BEGIN:VCALENDAR
VERSION:2.0
PRODID:-//Plone.org//NONSGML plone.app.event//EN
X-WR-TIMEZONE:Europe/Madrid
BEGIN:VEVENT
SUMMARY:Xerrada: Els joves i l'aventura de la nit
DTSTART;TZID=Europe/Madrid;VALUE=DATE-TIME:20060308T200000
DTEND;TZID=Europe/Madrid;VALUE=DATE-TIME:20060308T210000
DTSTAMP;VALUE=DATE-TIME:20260426T063429Z
UID:9ab1832da45c280e5fb401e7ec1ad46e
CREATED;VALUE=DATE-TIME:20060308T000000Z
URL:https://www.canetdemar.cat/document.php?id=2074
END:VEVENT
END:VCALENDAR