BEGIN:VCALENDAR
VERSION:2.0
PRODID:-//Plone.org//NONSGML plone.app.event//EN
X-WR-TIMEZONE:Europe/Madrid
BEGIN:VEVENT
SUMMARY:Ruta Modernista i la Casa museu Lluís Domènech i Montaner (activitat suspesa)
DTSTART;TZID=Europe/Madrid;VALUE=DATE-TIME:20210117T110000
DTEND;TZID=Europe/Madrid;VALUE=DATE-TIME:20210117T120000
DTSTAMP;VALUE=DATE-TIME:20260424T170023Z
UID:61c1fb410ed8fe61b2f2241e25d793b6
CREATED;VALUE=DATE-TIME:20210117T000000Z
LOCATION:Punt de trobada : Casa museu Lluís Domènech i Montaner
ORGANIZER:Àrea de Cultura - Ajuntament de Canet de Mar
COMMENT:Preu: 7&euro; (Gratuït nens menors de 12 anys)
Durada: Una hora i mitja, aproximadament
URL:https://www.canetdemar.cat/document.php?id=20731
END:VEVENT
END:VCALENDAR