BEGIN:VCALENDAR
VERSION:2.0
PRODID:-//Plone.org//NONSGML plone.app.event//EN
X-WR-TIMEZONE:Europe/Madrid
BEGIN:VEVENT
SUMMARY:Acte de Nadal
DTSTART;TZID=Europe/Madrid;VALUE=DATE-TIME:20201211T110000
DTEND;TZID=Europe/Madrid;VALUE=DATE-TIME:20201211T120000
DTSTAMP;VALUE=DATE-TIME:20260419T210916Z
UID:80a60f43534deddc376322c3b9b82e81
CREATED;VALUE=DATE-TIME:20201211T000000Z
CATEGORIES:Festa
LOCATION:es retransmetrà en diferit per Ràdio Canet
ORGANIZER:ASSOCIACIÓ DE LA GENT GRAN , L'ESPLAI
URL:https://www.canetdemar.cat/document.php?id=20687
END:VEVENT
END:VCALENDAR