BEGIN:VCALENDAR
VERSION:2.0
PRODID:-//Plone.org//NONSGML plone.app.event//EN
X-WR-TIMEZONE:Europe/Madrid
BEGIN:VEVENT
SUMMARY:Entrevista Ràdio Canet
DTSTART;TZID=Europe/Madrid;VALUE=DATE-TIME:20201202T110000
DTEND;TZID=Europe/Madrid;VALUE=DATE-TIME:20201202T120000
DTSTAMP;VALUE=DATE-TIME:20260425T191850Z
UID:2677232004e76291a4b52f836b5b522b
CREATED;VALUE=DATE-TIME:20201202T000000Z
CATEGORIES:Agenda institucional
LOCATION:Estudis Ràdio
URL:https://www.canetdemar.cat/document.php?id=20674
END:VEVENT
END:VCALENDAR