BEGIN:VCALENDAR
VERSION:2.0
PRODID:-//Plone.org//NONSGML plone.app.event//EN
X-WR-TIMEZONE:Europe/Madrid
BEGIN:VEVENT
SUMMARY:Reunió de coordinació Alcaldia
DTSTART;TZID=Europe/Madrid;VALUE=DATE-TIME:20201202T101500
DTEND;TZID=Europe/Madrid;VALUE=DATE-TIME:20201202T111500
DTSTAMP;VALUE=DATE-TIME:20260425T192404Z
UID:c95b1524b740aa26508576aac9b121d5
CREATED;VALUE=DATE-TIME:20201202T000000Z
CATEGORIES:Agenda institucional
LOCATION:Sala annexa Alcaldia
URL:https://www.canetdemar.cat/document.php?id=20673
END:VEVENT
END:VCALENDAR