BEGIN:VCALENDAR
VERSION:2.0
PRODID:-//Plone.org//NONSGML plone.app.event//EN
X-WR-TIMEZONE:Europe/Madrid
BEGIN:VEVENT
SUMMARY:Trobada Residència Guillem Mas
DTSTART;TZID=Europe/Madrid;VALUE=DATE-TIME:20201201T120000
DTEND;TZID=Europe/Madrid;VALUE=DATE-TIME:20201201T130000
DTSTAMP;VALUE=DATE-TIME:20260425T124209Z
UID:00c5a9b2e4e19a25af9c56778f08dbf0
CREATED;VALUE=DATE-TIME:20201201T000000Z
CATEGORIES:Agenda institucional
LOCATION:Residència Guillem Mas
URL:https://www.canetdemar.cat/document.php?id=20670
END:VEVENT
END:VCALENDAR