BEGIN:VCALENDAR
VERSION:2.0
PRODID:-//Plone.org//NONSGML plone.app.event//EN
X-WR-TIMEZONE:Europe/Madrid
BEGIN:VEVENT
SUMMARY:Xerrada: Estimar els teus fills també és posar límits
DTSTART;TZID=Europe/Madrid;VALUE=DATE-TIME:20060220T170000
DTEND;TZID=Europe/Madrid;VALUE=DATE-TIME:20060220T180000
DTSTAMP;VALUE=DATE-TIME:20260422T164728Z
UID:3b640b4c59dc7a857ea64fc3aadaf515
CREATED;VALUE=DATE-TIME:20060220T000000Z
URL:https://www.canetdemar.cat/document.php?id=2066
END:VEVENT
END:VCALENDAR