BEGIN:VCALENDAR
VERSION:2.0
PRODID:-//Plone.org//NONSGML plone.app.event//EN
X-WR-TIMEZONE:Europe/Madrid
BEGIN:VEVENT
SUMMARY:Ple extraordinari de l'Ajuntament de Canet de Mar
DTSTART;TZID=Europe/Madrid;VALUE=DATE-TIME:20201126T183000
DTEND;TZID=Europe/Madrid;VALUE=DATE-TIME:20201126T193000
DTSTAMP;VALUE=DATE-TIME:20260423T103648Z
UID:83e93cc3af9742fd034a2c4cae8371df
CREATED;VALUE=DATE-TIME:20201126T000000Z
CATEGORIES:Agenda institucional
URL:https://www.canetdemar.cat/document.php?id=20654
END:VEVENT
END:VCALENDAR