BEGIN:VCALENDAR
VERSION:2.0
PRODID:-//Plone.org//NONSGML plone.app.event//EN
X-WR-TIMEZONE:Europe/Madrid
BEGIN:VEVENT
SUMMARY:Presentació del logotip del TMC
DTSTART;TZID=Europe/Madrid;VALUE=DATE-TIME:20201126T160000
DTEND;TZID=Europe/Madrid;VALUE=DATE-TIME:20201126T170000
DTSTAMP;VALUE=DATE-TIME:20260423T015942Z
UID:ce68af4753175bcb11e2bbd145528ba7
CREATED;VALUE=DATE-TIME:20201126T000000Z
CATEGORIES:Agenda institucional
URL:https://www.canetdemar.cat/document.php?id=20651
END:VEVENT
END:VCALENDAR