BEGIN:VCALENDAR
VERSION:2.0
PRODID:-//Plone.org//NONSGML plone.app.event//EN
X-WR-TIMEZONE:Europe/Madrid
BEGIN:VEVENT
SUMMARY:Presa de possessió Agents de la Policia Local de Canet de Mar
DTSTART;TZID=Europe/Madrid;VALUE=DATE-TIME:20201126T113000
DTEND;TZID=Europe/Madrid;VALUE=DATE-TIME:20201126T123000
DTSTAMP;VALUE=DATE-TIME:20260425T204418Z
UID:e760c25410c38ad51a4e0eb4365540fe
CREATED;VALUE=DATE-TIME:20201126T000000Z
CATEGORIES:Agenda institucional
LOCATION:Sala annexa Alcaldia
URL:https://www.canetdemar.cat/document.php?id=20649
END:VEVENT
END:VCALENDAR