BEGIN:VCALENDAR
VERSION:2.0
PRODID:-//Plone.org//NONSGML plone.app.event//EN
X-WR-TIMEZONE:Europe/Madrid
BEGIN:VEVENT
SUMMARY:Reunió amb el Patronat de la Residència Guillem Mas
DTSTART;TZID=Europe/Madrid;VALUE=DATE-TIME:20201127T080000
DTEND;TZID=Europe/Madrid;VALUE=DATE-TIME:20201127T090000
DTSTAMP;VALUE=DATE-TIME:20260425T192853Z
UID:207edc85c8bafcbbd59dfb9dd6789b93
CREATED;VALUE=DATE-TIME:20201127T000000Z
CATEGORIES:Agenda institucional
LOCATION:Altre (ho explico més avall) - Residència Guillem Mas
URL:https://www.canetdemar.cat/document.php?id=20617
END:VEVENT
END:VCALENDAR