BEGIN:VCALENDAR
VERSION:2.0
PRODID:-//Plone.org//NONSGML plone.app.event//EN
X-WR-TIMEZONE:Europe/Madrid
BEGIN:VEVENT
SUMMARY:Reunió coordinació amb l'Àrea de Seguretat Ciutadana
DTSTART;TZID=Europe/Madrid;VALUE=DATE-TIME:20201118T133000
DTEND;TZID=Europe/Madrid;VALUE=DATE-TIME:20201118T143000
DTSTAMP;VALUE=DATE-TIME:20260423T120930Z
UID:2e77906477e8ee7c5b82b13b4cb857a7
CREATED;VALUE=DATE-TIME:20201118T000000Z
CATEGORIES:Agenda institucional
LOCATION:Altre (ho explico més avall) - Comissaria de Policia de Canet de Mar
URL:https://www.canetdemar.cat/document.php?id=20615
END:VEVENT
END:VCALENDAR