BEGIN:VCALENDAR
VERSION:2.0
PRODID:-//Plone.org//NONSGML plone.app.event//EN
X-WR-TIMEZONE:Europe/Madrid
BEGIN:VEVENT
SUMMARY:Reunió coordinació amb l'Àrea de Seguretat Ciutadana
DTSTART;TZID=Europe/Madrid;VALUE=DATE-TIME:20201125T133000
DTEND;TZID=Europe/Madrid;VALUE=DATE-TIME:20201125T143000
DTSTAMP;VALUE=DATE-TIME:20260424T054914Z
UID:a4592b4ebb82fb15b10bc1766c4e8055
CREATED;VALUE=DATE-TIME:20201125T000000Z
CATEGORIES:Agenda institucional
LOCATION:Altre (ho explico més avall) - Comissaria de Policia de Canet de Mar
URL:https://www.canetdemar.cat/document.php?id=20614
END:VEVENT
END:VCALENDAR