BEGIN:VCALENDAR
VERSION:2.0
PRODID:-//Plone.org//NONSGML plone.app.event//EN
X-WR-TIMEZONE:Europe/Madrid
BEGIN:VEVENT
SUMMARY:Signatura subvenció Fundació Els Garrofers
DTSTART;TZID=Europe/Madrid;VALUE=DATE-TIME:20201120T130000
DTEND;TZID=Europe/Madrid;VALUE=DATE-TIME:20201120T140000
DTSTAMP;VALUE=DATE-TIME:20260424T090337Z
UID:754cf3826d00e56cbc517b7af87745e6
CREATED;VALUE=DATE-TIME:20201120T000000Z
CATEGORIES:Agenda institucional
LOCATION:Sala annexa Alcaldia
URL:https://www.canetdemar.cat/document.php?id=20610
END:VEVENT
END:VCALENDAR