BEGIN:VCALENDAR
VERSION:2.0
PRODID:-//Plone.org//NONSGML plone.app.event//EN
X-WR-TIMEZONE:Europe/Madrid
BEGIN:VEVENT
SUMMARY:Mesa de contractació del mòdul del Passeig Marítim 2020 - 2031
DTSTART;TZID=Europe/Madrid;VALUE=DATE-TIME:20201120T123000
DTEND;TZID=Europe/Madrid;VALUE=DATE-TIME:20201120T133000
DTSTAMP;VALUE=DATE-TIME:20260424T182910Z
UID:3adbce417c7a9a999cc81ad7620d8a67
CREATED;VALUE=DATE-TIME:20201120T000000Z
CATEGORIES:Agenda institucional
URL:https://www.canetdemar.cat/document.php?id=20609
END:VEVENT
END:VCALENDAR