BEGIN:VCALENDAR
VERSION:2.0
PRODID:-//Plone.org//NONSGML plone.app.event//EN
X-WR-TIMEZONE:Europe/Madrid
BEGIN:VEVENT
SUMMARY:Reunió amb el centre educatiu ISCAT Maresme
DTSTART;TZID=Europe/Madrid;VALUE=DATE-TIME:20201118T120000
DTEND;TZID=Europe/Madrid;VALUE=DATE-TIME:20201118T130000
DTSTAMP;VALUE=DATE-TIME:20260425T192250Z
UID:51b9208d9cf73e378a77bddcfa4fc2a6
CREATED;VALUE=DATE-TIME:20201118T000000Z
CATEGORIES:Agenda institucional
LOCATION:Altre (ho explico més avall) - Centre escolar (Carles Flotats 14)
URL:https://www.canetdemar.cat/document.php?id=20604
END:VEVENT
END:VCALENDAR