BEGIN:VCALENDAR
VERSION:2.0
PRODID:-//Plone.org//NONSGML plone.app.event//EN
X-WR-TIMEZONE:Europe/Madrid
BEGIN:VEVENT
SUMMARY:Reunió de Coordinació Interna de l'Ajuntament
DTSTART;TZID=Europe/Madrid;VALUE=DATE-TIME:20201118T100000
DTEND;TZID=Europe/Madrid;VALUE=DATE-TIME:20201118T110000
DTSTAMP;VALUE=DATE-TIME:20260423T000012Z
UID:0c1e485a55ab2bfdcde88376b90ece8a
CREATED;VALUE=DATE-TIME:20201118T000000Z
CATEGORIES:Agenda institucional
LOCATION:Despatx d'Alcaldia
URL:https://www.canetdemar.cat/document.php?id=20602
END:VEVENT
END:VCALENDAR