BEGIN:VCALENDAR
VERSION:2.0
PRODID:-//Plone.org//NONSGML plone.app.event//EN
X-WR-TIMEZONE:Europe/Madrid
BEGIN:VEVENT
SUMMARY:Hora del conte: Contes salats amb en Paku Pillu i l'Anna Isern - activitat suspesa
DTSTART;TZID=Europe/Madrid;VALUE=DATE-TIME:20201106T171500
DTEND;TZID=Europe/Madrid;VALUE=DATE-TIME:20201106T181500
DTSTAMP;VALUE=DATE-TIME:20260426T050941Z
UID:9a09500950089a9af82bec5f9d75c39c
CREATED;VALUE=DATE-TIME:20201106T000000Z
CATEGORIES:Infantils
LOCATION:Biblioteca P. Gual i Pujadas
ORGANIZER:Biblioteca P. Gual i Pujadas
COMMENT:Preu: Gratuït
URL:https://www.canetdemar.cat/document.php?id=20540
END:VEVENT
END:VCALENDAR