BEGIN:VCALENDAR
VERSION:2.0
PRODID:-//Plone.org//NONSGML plone.app.event//EN
X-WR-TIMEZONE:Europe/Madrid
BEGIN:VEVENT
SUMMARY:Hora del conte: En Patufet amb la Fina Gelpí (activitat suspesa)
DTSTART;TZID=Europe/Madrid;VALUE=DATE-TIME:20201016T171500
DTEND;TZID=Europe/Madrid;VALUE=DATE-TIME:20201016T181500
DTSTAMP;VALUE=DATE-TIME:20260422T125912Z
UID:2ca805b4480e3d96212c21b52915dedd
CREATED;VALUE=DATE-TIME:20201016T000000Z
CATEGORIES:Infantils
LOCATION:Biblioteca P. Gual i Pujadas
ORGANIZER:Biblioteca P. Gual i Pujadas
COMMENT:Preu: Gratuït
DESCRIPTION:Contes pels més petits
URL:https://www.canetdemar.cat/document.php?id=20523
END:VEVENT
END:VCALENDAR