BEGIN:VCALENDAR
VERSION:2.0
PRODID:-//Plone.org//NONSGML plone.app.event//EN
X-WR-TIMEZONE:Europe/Madrid
BEGIN:VEVENT
SUMMARY:Jornades europees del Patrimoni
DTSTART;TZID=Europe/Madrid;VALUE=DATE-TIME:20201010T110000
DTEND;TZID=Europe/Madrid;VALUE=DATE-TIME:20201010T120000
DTSTAMP;VALUE=DATE-TIME:20260421T142227Z
UID:1865ac931ec6b84b6d623fd0087740a7
CREATED;VALUE=DATE-TIME:20201010T000000Z
LOCATION:Casa museu - Xamfrà Rieres Gavarra i Buscarons
ORGANIZER:Àrea de Cultura de l'Ajuntament de Canet de Mar
COMMENT:Preu: Activitat gratuïta
Durada: 1 hora aprox.
DESCRIPTION:"La Maria Roura us convida a passar..."
URL:https://www.canetdemar.cat/document.php?id=20513
END:VEVENT
END:VCALENDAR