BEGIN:VCALENDAR
VERSION:2.0
PRODID:-//Plone.org//NONSGML plone.app.event//EN
X-WR-TIMEZONE:Europe/Madrid
BEGIN:VEVENT
SUMMARY:L'hora del conte
DTSTART;TZID=Europe/Madrid;VALUE=DATE-TIME:20030222T120000
DTEND;TZID=Europe/Madrid;VALUE=DATE-TIME:20030222T130000
DTSTAMP;VALUE=DATE-TIME:20260422T174706Z
UID:f8f41321f51b6a2fc77d89c8ed71d157
CREATED;VALUE=DATE-TIME:20030222T000000Z
URL:https://www.canetdemar.cat/document.php?id=205
END:VEVENT
END:VCALENDAR