BEGIN:VCALENDAR
VERSION:2.0
PRODID:-//Plone.org//NONSGML plone.app.event//EN
X-WR-TIMEZONE:Europe/Madrid
BEGIN:VEVENT
SUMMARY:Junta de Govern Local
DTSTART;TZID=Europe/Madrid;VALUE=DATE-TIME:20200827T170000
DTEND;TZID=Europe/Madrid;VALUE=DATE-TIME:20200827T180000
DTSTAMP;VALUE=DATE-TIME:20260423T203605Z
UID:2b530f7dae47aad88003ce883bfd2a3f
CREATED;VALUE=DATE-TIME:20200827T000000Z
CATEGORIES:Agenda institucional
LOCATION:Trobada virtual
URL:https://www.canetdemar.cat/document.php?id=20455
END:VEVENT
END:VCALENDAR