BEGIN:VCALENDAR
VERSION:2.0
PRODID:-//Plone.org//NONSGML plone.app.event//EN
X-WR-TIMEZONE:Europe/Madrid
BEGIN:VEVENT
SUMMARY:Reunió interna amb intervenció i secretaria
DTSTART;TZID=Europe/Madrid;VALUE=DATE-TIME:20200826T110000
DTEND;TZID=Europe/Madrid;VALUE=DATE-TIME:20200826T120000
DTSTAMP;VALUE=DATE-TIME:20260422T203632Z
UID:d5897a3eb3d009b85c6d5af9db9cecf7
CREATED;VALUE=DATE-TIME:20200826T000000Z
CATEGORIES:Agenda institucional
LOCATION:Trobada virtual
URL:https://www.canetdemar.cat/document.php?id=20453
END:VEVENT
END:VCALENDAR