BEGIN:VCALENDAR
VERSION:2.0
PRODID:-//Plone.org//NONSGML plone.app.event//EN
X-WR-TIMEZONE:Europe/Madrid
BEGIN:VEVENT
SUMMARY:Reunió amb veïns del municipi
DTSTART;TZID=Europe/Madrid;VALUE=DATE-TIME:20200817T110000
DTEND;TZID=Europe/Madrid;VALUE=DATE-TIME:20200817T120000
DTSTAMP;VALUE=DATE-TIME:20260425T125033Z
UID:44cb64435dc929ee50c41ac8b2435e7d
CREATED;VALUE=DATE-TIME:20200817T000000Z
CATEGORIES:Agenda institucional
LOCATION:Sala annexa Alcaldia
URL:https://www.canetdemar.cat/document.php?id=20442
END:VEVENT
END:VCALENDAR