BEGIN:VCALENDAR
VERSION:2.0
PRODID:-//Plone.org//NONSGML plone.app.event//EN
X-WR-TIMEZONE:Europe/Madrid
BEGIN:VEVENT
SUMMARY:Anunci del Carnaval
DTSTART;TZID=Europe/Madrid;VALUE=DATE-TIME:20060218T100000
DTEND;TZID=Europe/Madrid;VALUE=DATE-TIME:20060218T110000
DTSTAMP;VALUE=DATE-TIME:20260423T134419Z
UID:e1023eb2bce14be087ac0fb8179f9df5
CREATED;VALUE=DATE-TIME:20060218T000000Z
URL:https://www.canetdemar.cat/document.php?id=2043
END:VEVENT
END:VCALENDAR