BEGIN:VCALENDAR
VERSION:2.0
PRODID:-//Plone.org//NONSGML plone.app.event//EN
X-WR-TIMEZONE:Europe/Madrid
BEGIN:VEVENT
SUMMARY:Reunió amb veïns del municipi
DTSTART;TZID=Europe/Madrid;VALUE=DATE-TIME:20200810T100000
DTEND;TZID=Europe/Madrid;VALUE=DATE-TIME:20200810T110000
DTSTAMP;VALUE=DATE-TIME:20260422T093439Z
UID:708562b08e879a1559f50c2b2f34b323
CREATED;VALUE=DATE-TIME:20200810T000000Z
CATEGORIES:Agenda institucional
LOCATION:Sala annexa Alcaldia
URL:https://www.canetdemar.cat/document.php?id=20420
END:VEVENT
END:VCALENDAR