BEGIN:VCALENDAR
VERSION:2.0
PRODID:-//Plone.org//NONSGML plone.app.event//EN
X-WR-TIMEZONE:Europe/Madrid
BEGIN:VEVENT
SUMMARY:Reunió de seguiment amb l'àrea de Seguretat Ciutadana
DTSTART;TZID=Europe/Madrid;VALUE=DATE-TIME:20200821T090000
DTEND;TZID=Europe/Madrid;VALUE=DATE-TIME:20200821T100000
DTSTAMP;VALUE=DATE-TIME:20260424T011830Z
UID:758187bd4f13794d14838682e9245b6c
CREATED;VALUE=DATE-TIME:20200821T000000Z
CATEGORIES:Agenda institucional
LOCATION:Sala annexa Alcaldia
URL:https://www.canetdemar.cat/document.php?id=20419
END:VEVENT
END:VCALENDAR