BEGIN:VCALENDAR
VERSION:2.0
PRODID:-//Plone.org//NONSGML plone.app.event//EN
X-WR-TIMEZONE:Europe/Madrid
BEGIN:VEVENT
SUMMARY:Reunió del comitè d'emergència DUPROCIM davant la pandèmia pel COVID-19
DTSTART;TZID=Europe/Madrid;VALUE=DATE-TIME:20200824T120000
DTEND;TZID=Europe/Madrid;VALUE=DATE-TIME:20200824T130000
DTSTAMP;VALUE=DATE-TIME:20260422T034952Z
UID:65107c9a0e21ca1fb8e556cc8d867497
CREATED;VALUE=DATE-TIME:20200824T000000Z
CATEGORIES:Agenda institucional
URL:https://www.canetdemar.cat/document.php?id=20413
END:VEVENT
END:VCALENDAR