BEGIN:VCALENDAR
VERSION:2.0
PRODID:-//Plone.org//NONSGML plone.app.event//EN
X-WR-TIMEZONE:Europe/Madrid
BEGIN:VEVENT
SUMMARY:Reunió del comitè d'emergència DUPROCIM davant la pandèmia pel COVID-19
DTSTART;TZID=Europe/Madrid;VALUE=DATE-TIME:20200810T120000
DTEND;TZID=Europe/Madrid;VALUE=DATE-TIME:20200810T130000
DTSTAMP;VALUE=DATE-TIME:20260424T072033Z
UID:83c15ab70cc4d7f9068a4bb6eba7759f
CREATED;VALUE=DATE-TIME:20200810T000000Z
CATEGORIES:Agenda institucional
URL:https://www.canetdemar.cat/document.php?id=20411
END:VEVENT
END:VCALENDAR