BEGIN:VCALENDAR
VERSION:2.0
PRODID:-//Plone.org//NONSGML plone.app.event//EN
X-WR-TIMEZONE:Europe/Madrid
BEGIN:VEVENT
SUMMARY:La música dels llibres
DTSTART;TZID=Europe/Madrid;VALUE=DATE-TIME:20060224T200000
DTEND;TZID=Europe/Madrid;VALUE=DATE-TIME:20060224T210000
DTSTAMP;VALUE=DATE-TIME:20260424T142913Z
UID:08342a095dc38583bfe2281c5e4d6dbd
CREATED;VALUE=DATE-TIME:20060224T000000Z
URL:https://www.canetdemar.cat/document.php?id=2041
END:VEVENT
END:VCALENDAR