BEGIN:VCALENDAR
VERSION:2.0
PRODID:-//Plone.org//NONSGML plone.app.event//EN
X-WR-TIMEZONE:Europe/Madrid
BEGIN:VEVENT
SUMMARY:Reunió de seguiment amb l'àrea de Seguretat Ciutadana
DTSTART;TZID=Europe/Madrid;VALUE=DATE-TIME:20200807T090000
DTEND;TZID=Europe/Madrid;VALUE=DATE-TIME:20200807T100000
DTSTAMP;VALUE=DATE-TIME:20260423T221029Z
UID:a8419cb4c9d093345400ac629b0177fa
CREATED;VALUE=DATE-TIME:20200807T000000Z
CATEGORIES:Agenda institucional
LOCATION:Sala annexa Alcaldia
URL:https://www.canetdemar.cat/document.php?id=20407
END:VEVENT
END:VCALENDAR