BEGIN:VCALENDAR
VERSION:2.0
PRODID:-//Plone.org//NONSGML plone.app.event//EN
X-WR-TIMEZONE:Europe/Madrid
BEGIN:VEVENT
SUMMARY:Conferència: "Francesca Bonnemaison, la seva obra a favor de la dona i la seva relació amb Canet"
DTSTART;TZID=Europe/Madrid;VALUE=DATE-TIME:20030221T200000
DTEND;TZID=Europe/Madrid;VALUE=DATE-TIME:20030221T210000
DTSTAMP;VALUE=DATE-TIME:20260425T054232Z
UID:a852a7fa33015c955f381a3ec22e3adc
CREATED;VALUE=DATE-TIME:20030221T000000Z
URL:https://www.canetdemar.cat/document.php?id=204
END:VEVENT
END:VCALENDAR