BEGIN:VCALENDAR
VERSION:2.0
PRODID:-//Plone.org//NONSGML plone.app.event//EN
X-WR-TIMEZONE:Europe/Madrid
BEGIN:VEVENT
SUMMARY:XXIX Concurs de teatre Premi Pedracastell
DTSTART;TZID=Europe/Madrid;VALUE=DATE-TIME:20030223T181500
DTEND;TZID=Europe/Madrid;VALUE=DATE-TIME:20030223T191500
DTSTAMP;VALUE=DATE-TIME:20260422T231910Z
UID:075306724d84dcb7b06977f517851987
CREATED;VALUE=DATE-TIME:20030223T000000Z
DESCRIPTION:"Vides Privades"
URL:https://www.canetdemar.cat/document.php?id=203
END:VEVENT
END:VCALENDAR