BEGIN:VCALENDAR
VERSION:2.0
PRODID:-//Plone.org//NONSGML plone.app.event//EN
X-WR-TIMEZONE:Europe/Madrid
BEGIN:VEVENT
SUMMARY:Presentació del llibre La maternitat d'Elna
DTSTART;TZID=Europe/Madrid;VALUE=DATE-TIME:20060210T193000
DTEND;TZID=Europe/Madrid;VALUE=DATE-TIME:20060210T203000
DTSTAMP;VALUE=DATE-TIME:20260421T123801Z
UID:0b590f8b7d9d9438989edc1bdda54dd5
CREATED;VALUE=DATE-TIME:20060210T000000Z
URL:https://www.canetdemar.cat/document.php?id=2026
END:VEVENT
END:VCALENDAR